BEGIN:VCALENDAR
VERSION:2.0
PRODID:-//Jorge Dubarry - ECPv6.15.20//NONSGML v1.0//EN
CALSCALE:GREGORIAN
METHOD:PUBLISH
X-ORIGINAL-URL:https://jorgedubarry.com
X-WR-CALDESC:Eventos para Jorge Dubarry
REFRESH-INTERVAL;VALUE=DURATION:PT1H
X-Robots-Tag:noindex
X-PUBLISHED-TTL:PT1H
BEGIN:VTIMEZONE
TZID:Europe/Madrid
BEGIN:DAYLIGHT
TZOFFSETFROM:+0100
TZOFFSETTO:+0200
TZNAME:CEST
DTSTART:20220327T010000
END:DAYLIGHT
BEGIN:STANDARD
TZOFFSETFROM:+0200
TZOFFSETTO:+0100
TZNAME:CET
DTSTART:20221030T010000
END:STANDARD
BEGIN:DAYLIGHT
TZOFFSETFROM:+0100
TZOFFSETTO:+0200
TZNAME:CEST
DTSTART:20230326T010000
END:DAYLIGHT
BEGIN:STANDARD
TZOFFSETFROM:+0200
TZOFFSETTO:+0100
TZNAME:CET
DTSTART:20231029T010000
END:STANDARD
BEGIN:DAYLIGHT
TZOFFSETFROM:+0100
TZOFFSETTO:+0200
TZNAME:CEST
DTSTART:20240331T010000
END:DAYLIGHT
BEGIN:STANDARD
TZOFFSETFROM:+0200
TZOFFSETTO:+0100
TZNAME:CET
DTSTART:20241027T010000
END:STANDARD
END:VTIMEZONE
BEGIN:VEVENT
DTSTART;TZID=Europe/Madrid:20230219T190000
DTEND;TZID=Europe/Madrid:20230219T200000
DTSTAMP:20260420T024858
CREATED:20230209T132833Z
LAST-MODIFIED:20230209T151745Z
UID:781-1676833200-1676836800@jorgedubarry.com
SUMMARY:Tarde de Cromo XXI en la Sala TNT
DESCRIPTION:Sesión doble programada para el próximo domingo 19 de febrero con las dos piezas creadas por el grupo Cromo XXI: \n\n¡Parto Al Agua!  es el inicio de un camino\, la visión a cámara rápida de un amor\, un embarazo\, un parto y una noticia inesperada: la llegada a nuestras vidas de un cromosoma de más. Parto al agua surge como un canal para expresarnos\, para canalizar las emociones que nos recorrieron desde el momento en que decidimos ser padres y la sorpresa de serlo de un niño con síndrome de Down. Para nosotros fue como sumergirnos en un mundo nuevo\, un chapuzón de realidad\, una apnea en toda regla.\nCirco Soni. Un día le pusimos a Teo en el cine de casa un espectáculo de circo. Al principio estaba reticente\, pero luego se lo bebió entero. A partir de ese momento Teo empezó a decir: “Mamá\, yo Circo Soni”. Lo que quería es\, básicamente\, que hiciéramos equilibrios con él en la cama. A partir de ahí se creó un juego que poco a poco fue evolucionando\, hasta que\, actualmente\, para él Circo Soni va desde pasar por debajo de la mesa\, hacer equilibrios sobre un pie o sostener una pelota con la mano\, hasta saltar de un sofá a otro.
URL:https://jorgedubarry.com/event/tarde-de-cromo-xxi-en-la-sala-tnt/
LOCATION:Sala TNT\, Avda. Parque de Despeñaperros 1\, Sevilla\, 41015\, España
ATTACH;FMTTYPE=image/jpeg:https://jorgedubarry.com/wp-content/uploads/2023/02/circo_soni.jpg
END:VEVENT
END:VCALENDAR