BEGIN:VCALENDAR
VERSION:2.0
PRODID:-//Jorge Dubarry - ECPv6.15.20//NONSGML v1.0//EN
CALSCALE:GREGORIAN
METHOD:PUBLISH
X-ORIGINAL-URL:https://jorgedubarry.com
X-WR-CALDESC:Eventos para Jorge Dubarry
REFRESH-INTERVAL;VALUE=DURATION:PT1H
X-Robots-Tag:noindex
X-PUBLISHED-TTL:PT1H
BEGIN:VTIMEZONE
TZID:Europe/Madrid
BEGIN:DAYLIGHT
TZOFFSETFROM:+0100
TZOFFSETTO:+0200
TZNAME:CEST
DTSTART:20240331T010000
END:DAYLIGHT
BEGIN:STANDARD
TZOFFSETFROM:+0200
TZOFFSETTO:+0100
TZNAME:CET
DTSTART:20241027T010000
END:STANDARD
BEGIN:DAYLIGHT
TZOFFSETFROM:+0100
TZOFFSETTO:+0200
TZNAME:CEST
DTSTART:20250330T010000
END:DAYLIGHT
BEGIN:STANDARD
TZOFFSETFROM:+0200
TZOFFSETTO:+0100
TZNAME:CET
DTSTART:20251026T010000
END:STANDARD
BEGIN:DAYLIGHT
TZOFFSETFROM:+0100
TZOFFSETTO:+0200
TZNAME:CEST
DTSTART:20260329T010000
END:DAYLIGHT
BEGIN:STANDARD
TZOFFSETFROM:+0200
TZOFFSETTO:+0100
TZNAME:CET
DTSTART:20261025T010000
END:STANDARD
END:VTIMEZONE
BEGIN:VEVENT
DTSTART;TZID=Europe/Madrid:20250926T200000
DTEND;TZID=Europe/Madrid:20250926T211500
DTSTAMP:20260423T115611
CREATED:20250611T162223Z
LAST-MODIFIED:20250620T164338Z
UID:2208-1758916800-1758921300@jorgedubarry.com
SUMMARY:Contra Ana - La Contraria
DESCRIPTION:Contra Ana es una autoficción que retrata la anorexia (y por descontado qué es un TCA en su complejidad) desde la experiencia real de la autora\, Alma García. Se centra especialmente en el año que pasó ingresada en una clínica en Barcelona y reflexiona sobre la identidad y lo que este concepto ha supuesto para ella. La obra se adentra en la búsqueda de los porqués y en la responsabilidad que la sociedad tiene en el desarrollo (o mantenimiento) de un TCA.
URL:https://jorgedubarry.com/event/contra-ana-21/
LOCATION:Teatro-Cine Imperial\, Granada
CATEGORIES:Compañía Emergente,Dramaturgia,Teatro,teatro adulto,Teatro para jóvenes,Teatro Social
ATTACH;FMTTYPE=image/png:https://jorgedubarry.com/wp-content/uploads/2025/06/4.png
END:VEVENT
BEGIN:VEVENT
DTSTART;TZID=Europe/Madrid:20250927T203000
DTEND;TZID=Europe/Madrid:20250927T214500
DTSTAMP:20260423T115611
CREATED:20250611T162235Z
LAST-MODIFIED:20250620T164327Z
UID:2495-1759005000-1759009500@jorgedubarry.com
SUMMARY:Contra Ana - La Contraria
DESCRIPTION:Contra Ana es una autoficción que retrata la anorexia (y por descontado qué es un TCA en su complejidad) desde la experiencia real de la autora\, Alma García. Se centra especialmente en el año que pasó ingresada en una clínica en Barcelona y reflexiona sobre la identidad y lo que este concepto ha supuesto para ella. La obra se adentra en la búsqueda de los porqués y en la responsabilidad que la sociedad tiene en el desarrollo (o mantenimiento) de un TCA.
URL:https://jorgedubarry.com/event/contra-ana-la-contraria-4/
LOCATION:Teatro Municipal Miguel Romero Esteo\, Calle Magistrado Fernando Rubiales\, s/n\,\, Montoro\, Córdoba
CATEGORIES:Compañía Emergente,Dramaturgia,Teatro,teatro adulto,Teatro para jóvenes,Teatro Social
ATTACH;FMTTYPE=image/png:https://jorgedubarry.com/wp-content/uploads/2025/06/4.png
END:VEVENT
BEGIN:VEVENT
DTSTART;TZID=Europe/Madrid:20250929T193000
DTEND;TZID=Europe/Madrid:20250929T200000
DTSTAMP:20260423T115611
CREATED:20250611T162422Z
LAST-MODIFIED:20250619T174809Z
UID:2453-1759174200-1759176000@jorgedubarry.com
SUMMARY:Contra Ana - La Contraria
DESCRIPTION:Contra Ana es una autoficción que retrata la anorexia (y por descontado qué es un TCA en su complejidad) desde la experiencia real de la autora\, Alma García. Se centra especialmente en el año que pasó ingresada en una clínica en Barcelona y reflexiona sobre la identidad y lo que este concepto ha supuesto para ella. La obra se adentra en la búsqueda de los porqués y en la responsabilidad que la sociedad tiene en el desarrollo (o mantenimiento) de un TCA.
URL:https://jorgedubarry.com/event/contra-ana-la-contraria-2/
LOCATION:Almería
CATEGORIES:Compañía Emergente,Dramaturgia,Teatro,teatro adulto,Teatro para jóvenes,Teatro Social
ATTACH;FMTTYPE=image/png:https://jorgedubarry.com/wp-content/uploads/2025/06/4.png
END:VEVENT
END:VCALENDAR