BEGIN:VCALENDAR
VERSION:2.0
PRODID:-//Jorge Dubarry - ECPv6.15.20//NONSGML v1.0//EN
CALSCALE:GREGORIAN
METHOD:PUBLISH
X-WR-CALNAME:Jorge Dubarry
X-ORIGINAL-URL:https://jorgedubarry.com
X-WR-CALDESC:Eventos para Jorge Dubarry
REFRESH-INTERVAL;VALUE=DURATION:PT1H
X-Robots-Tag:noindex
X-PUBLISHED-TTL:PT1H
BEGIN:VTIMEZONE
TZID:Europe/Madrid
BEGIN:DAYLIGHT
TZOFFSETFROM:+0100
TZOFFSETTO:+0200
TZNAME:CEST
DTSTART:20220327T010000
END:DAYLIGHT
BEGIN:STANDARD
TZOFFSETFROM:+0200
TZOFFSETTO:+0100
TZNAME:CET
DTSTART:20221030T010000
END:STANDARD
BEGIN:DAYLIGHT
TZOFFSETFROM:+0100
TZOFFSETTO:+0200
TZNAME:CEST
DTSTART:20230326T010000
END:DAYLIGHT
BEGIN:STANDARD
TZOFFSETFROM:+0200
TZOFFSETTO:+0100
TZNAME:CET
DTSTART:20231029T010000
END:STANDARD
BEGIN:DAYLIGHT
TZOFFSETFROM:+0100
TZOFFSETTO:+0200
TZNAME:CEST
DTSTART:20240331T010000
END:DAYLIGHT
BEGIN:STANDARD
TZOFFSETFROM:+0200
TZOFFSETTO:+0100
TZNAME:CET
DTSTART:20241027T010000
END:STANDARD
END:VTIMEZONE
BEGIN:VEVENT
DTSTART;VALUE=DATE:20231116
DTEND;VALUE=DATE:20231117
DTSTAMP:20260419T150343
CREATED:20230721T094537Z
LAST-MODIFIED:20231030T192621Z
UID:1244-1700092800-1700179199@jorgedubarry.com
SUMMARY:PAJA-RA
DESCRIPTION:Paja-Ra es una constelación en el bosque de seis cuerpos paisaje; Granado\, Águila\, Disparos\, Cierva\, Sirena\, Fuente. \nPaja-Ra habla de paisajes interiores y exteriores\, de sentires y de imágenes\, de formas. De lo bello e inconmensurable de la Naturaleza\, de nuestra relación con ella. \n+ INFO de PAJA-RA
URL:https://jorgedubarry.com/event/paja-ra-3/
LOCATION:La Lusiana\, https://maps.app.goo.gl/bZ4GxSsgmSb3iNFVA
CATEGORIES:danza
ATTACH;FMTTYPE=image/jpeg:https://jorgedubarry.com/wp-content/uploads/2023/02/MG_6045.jpg
END:VEVENT
END:VCALENDAR