BEGIN:VCALENDAR
VERSION:2.0
PRODID:-//Jorge Dubarry - ECPv6.15.20//NONSGML v1.0//EN
CALSCALE:GREGORIAN
METHOD:PUBLISH
X-WR-CALNAME:Jorge Dubarry
X-ORIGINAL-URL:https://jorgedubarry.com
X-WR-CALDESC:Eventos para Jorge Dubarry
REFRESH-INTERVAL;VALUE=DURATION:PT1H
X-Robots-Tag:noindex
X-PUBLISHED-TTL:PT1H
BEGIN:VTIMEZONE
TZID:Europe/Madrid
BEGIN:DAYLIGHT
TZOFFSETFROM:+0100
TZOFFSETTO:+0200
TZNAME:CEST
DTSTART:20220327T010000
END:DAYLIGHT
BEGIN:STANDARD
TZOFFSETFROM:+0200
TZOFFSETTO:+0100
TZNAME:CET
DTSTART:20221030T010000
END:STANDARD
BEGIN:DAYLIGHT
TZOFFSETFROM:+0100
TZOFFSETTO:+0200
TZNAME:CEST
DTSTART:20230326T010000
END:DAYLIGHT
BEGIN:STANDARD
TZOFFSETFROM:+0200
TZOFFSETTO:+0100
TZNAME:CET
DTSTART:20231029T010000
END:STANDARD
BEGIN:DAYLIGHT
TZOFFSETFROM:+0100
TZOFFSETTO:+0200
TZNAME:CEST
DTSTART:20240331T010000
END:DAYLIGHT
BEGIN:STANDARD
TZOFFSETFROM:+0200
TZOFFSETTO:+0100
TZNAME:CET
DTSTART:20241027T010000
END:STANDARD
END:VTIMEZONE
BEGIN:VEVENT
DTSTART;VALUE=DATE:20230908
DTEND;VALUE=DATE:20230909
DTSTAMP:20260419T180005
CREATED:20230721T100225Z
LAST-MODIFIED:20230904T101801Z
UID:1252-1694131200-1694217599@jorgedubarry.com
SUMMARY:PAJA-RA
DESCRIPTION:Paja-Ra es una constelación en el bosque de seis cuerpos paisaje; Granado\, Águila\, Disparos\, Cierva\, Sirena\, Fuente. \nPaja-Ra habla de paisajes interiores y exteriores\, de sentires y de imágenes\, de formas. De lo bello e inconmensurable de la Naturaleza\, de nuestra relación con ella.
URL:https://jorgedubarry.com/event/paja-ra-4/
LOCATION:Villanueva del Río y Minas\, Villanueva del Río y Minas\, DE\, 41350
CATEGORIES:danza
ATTACH;FMTTYPE=image/jpeg:https://jorgedubarry.com/wp-content/uploads/2023/02/MG_6135.jpg
END:VEVENT
END:VCALENDAR