BEGIN:VCALENDAR
VERSION:2.0
PRODID:-//Jorge Dubarry - ECPv6.15.20//NONSGML v1.0//EN
CALSCALE:GREGORIAN
METHOD:PUBLISH
X-WR-CALNAME:Jorge Dubarry
X-ORIGINAL-URL:https://jorgedubarry.com
X-WR-CALDESC:Eventos para Jorge Dubarry
REFRESH-INTERVAL;VALUE=DURATION:PT1H
X-Robots-Tag:noindex
X-PUBLISHED-TTL:PT1H
BEGIN:VTIMEZONE
TZID:Europe/Madrid
BEGIN:DAYLIGHT
TZOFFSETFROM:+0100
TZOFFSETTO:+0200
TZNAME:CEST
DTSTART:20220327T010000
END:DAYLIGHT
BEGIN:STANDARD
TZOFFSETFROM:+0200
TZOFFSETTO:+0100
TZNAME:CET
DTSTART:20221030T010000
END:STANDARD
BEGIN:DAYLIGHT
TZOFFSETFROM:+0100
TZOFFSETTO:+0200
TZNAME:CEST
DTSTART:20230326T010000
END:DAYLIGHT
BEGIN:STANDARD
TZOFFSETFROM:+0200
TZOFFSETTO:+0100
TZNAME:CET
DTSTART:20231029T010000
END:STANDARD
BEGIN:DAYLIGHT
TZOFFSETFROM:+0100
TZOFFSETTO:+0200
TZNAME:CEST
DTSTART:20240331T010000
END:DAYLIGHT
BEGIN:STANDARD
TZOFFSETFROM:+0200
TZOFFSETTO:+0100
TZNAME:CET
DTSTART:20241027T010000
END:STANDARD
END:VTIMEZONE
BEGIN:VEVENT
DTSTART;TZID=Europe/Madrid:20230616T210000
DTEND;TZID=Europe/Madrid:20230616T213000
DTSTAMP:20260419T222730
CREATED:20230612T102929Z
LAST-MODIFIED:20230612T102929Z
UID:1199-1686949200-1686951000@jorgedubarry.com
SUMMARY:PAJA-RA
DESCRIPTION:Paja-Ra es una constelación en el bosque de seis cuerpos paisaje; Granado\, Águila\, Disparos\, Cierva\, Sirena\, Fuente. \nPaja-Ra habla de paisajes interiores y exteriores\, de sentires y de imágenes\, de formas. De lo bello e inconmensurable de la Naturaleza\, de nuestra relación con ella.
URL:https://jorgedubarry.com/event/paja-ra-2/
LOCATION:Palacio de los Marqueses de la Algaba\, Pl. Calderón de la Barca\, s/n\,\, Sevilla\, Sevilla\, 41003\, España
CATEGORIES:danza
ATTACH;FMTTYPE=image/jpeg:https://jorgedubarry.com/wp-content/uploads/2023/02/img.jpg
END:VEVENT
END:VCALENDAR